BEGIN:VCALENDAR
VERSION:2.0
PRODID:-//North Carolina Synod - ECPv6.15.20//NONSGML v1.0//EN
CALSCALE:GREGORIAN
METHOD:PUBLISH
X-ORIGINAL-URL:https://www.nclutheran.org
X-WR-CALDESC:Events for North Carolina Synod
REFRESH-INTERVAL;VALUE=DURATION:PT1H
X-Robots-Tag:noindex
X-PUBLISHED-TTL:PT1H
BEGIN:VTIMEZONE
TZID:America/New_York
BEGIN:DAYLIGHT
TZOFFSETFROM:-0500
TZOFFSETTO:-0400
TZNAME:EDT
DTSTART:20250309T070000
END:DAYLIGHT
BEGIN:STANDARD
TZOFFSETFROM:-0400
TZOFFSETTO:-0500
TZNAME:EST
DTSTART:20251102T060000
END:STANDARD
BEGIN:DAYLIGHT
TZOFFSETFROM:-0500
TZOFFSETTO:-0400
TZNAME:EDT
DTSTART:20260308T070000
END:DAYLIGHT
BEGIN:STANDARD
TZOFFSETFROM:-0400
TZOFFSETTO:-0500
TZNAME:EST
DTSTART:20261101T060000
END:STANDARD
BEGIN:DAYLIGHT
TZOFFSETFROM:-0500
TZOFFSETTO:-0400
TZNAME:EDT
DTSTART:20270314T070000
END:DAYLIGHT
BEGIN:STANDARD
TZOFFSETFROM:-0400
TZOFFSETTO:-0500
TZNAME:EST
DTSTART:20271107T060000
END:STANDARD
END:VTIMEZONE
BEGIN:VEVENT
DTSTART;TZID=America/New_York:20260207T140000
DTEND;TZID=America/New_York:20260207T140000
DTSTAMP:20260421T073146
CREATED:20250507T142445Z
LAST-MODIFIED:20260126T135631Z
UID:10003200-1770472800-1770472800@www.nclutheran.org
SUMMARY:Ordination: Brooke Watson-Summerour
DESCRIPTION:
URL:https://www.nclutheran.org/event/ordination-brooke-watson-summerour/
LOCATION:Advent\, Charlotte\, 8840 University City Boulevard\, Charlotte\, 28213\, United States
CATEGORIES:Synod Sponsored
ATTACH;FMTTYPE=image/png:https://www.nclutheran.org/wp-content/uploads/2023/01/Ordination-Event-1.png
END:VEVENT
BEGIN:VEVENT
DTSTART;TZID=America/New_York:20260214T100000
DTEND;TZID=America/New_York:20260214T100000
DTSTAMP:20260421T073146
CREATED:20260109T165347Z
LAST-MODIFIED:20260202T144737Z
UID:10002624-1771063200-1771063200@www.nclutheran.org
SUMMARY:Ordination: Miriam Schmidle
DESCRIPTION:
URL:https://www.nclutheran.org/event/ordination-miriam-schmidle/
LOCATION:Reformation Lutheran Church\, 433 W. Main Avenue\, Taylorsville\, NC\, 28681\, United States
CATEGORIES:Synod Sponsored
ATTACH;FMTTYPE=image/png:https://www.nclutheran.org/wp-content/uploads/2023/01/Ordination-Event-1.png
END:VEVENT
BEGIN:VEVENT
DTSTART;TZID=America/New_York:20260214T140000
DTEND;TZID=America/New_York:20260214T140000
DTSTAMP:20260421T073146
CREATED:20260107T152244Z
LAST-MODIFIED:20260203T150638Z
UID:10003199-1771077600-1771077600@www.nclutheran.org
SUMMARY:Ordination: David Klutz
DESCRIPTION:
URL:https://www.nclutheran.org/event/ordination-david-kluttz/
LOCATION:Morning Star\, Matthews
CATEGORIES:Synod Sponsored
ATTACH;FMTTYPE=image/png:https://www.nclutheran.org/wp-content/uploads/2023/01/Ordination-Event-1.png
END:VEVENT
BEGIN:VEVENT
DTSTART;TZID=America/New_York:20260216T103000
DTEND;TZID=America/New_York:20260216T113000
DTSTAMP:20260421T073146
CREATED:20260112T150830Z
LAST-MODIFIED:20260112T150832Z
UID:10003353-1771237800-1771241400@www.nclutheran.org
SUMMARY:Chrism Mass
DESCRIPTION:
URL:https://www.nclutheran.org/event/chrism-mass/2026-02-16/1/
LOCATION:Various Locations
CATEGORIES:Synod Sponsored
ATTACH;FMTTYPE=image/jpeg:https://www.nclutheran.org/wp-content/uploads/2026/01/Chrism-Mass-event-2026.jpg
END:VEVENT
BEGIN:VEVENT
DTSTART;TZID=America/New_York:20260216T150000
DTEND;TZID=America/New_York:20260216T160000
DTSTAMP:20260421T073146
CREATED:20260112T150830Z
LAST-MODIFIED:20260112T150832Z
UID:10003354-1771254000-1771257600@www.nclutheran.org
SUMMARY:Chrism Mass
DESCRIPTION:
URL:https://www.nclutheran.org/event/chrism-mass/2026-02-16/2/
LOCATION:Various Locations
CATEGORIES:Synod Sponsored
ATTACH;FMTTYPE=image/jpeg:https://www.nclutheran.org/wp-content/uploads/2026/01/Chrism-Mass-event-2026.jpg
END:VEVENT
BEGIN:VEVENT
DTSTART;TZID=America/New_York:20260217T103000
DTEND;TZID=America/New_York:20260217T113000
DTSTAMP:20260421T073146
CREATED:20260112T150830Z
LAST-MODIFIED:20260112T150832Z
UID:10003355-1771324200-1771327800@www.nclutheran.org
SUMMARY:Chrism Mass
DESCRIPTION:
URL:https://www.nclutheran.org/event/chrism-mass/2026-02-17/1/
LOCATION:Various Locations
CATEGORIES:Synod Sponsored
ATTACH;FMTTYPE=image/jpeg:https://www.nclutheran.org/wp-content/uploads/2026/01/Chrism-Mass-event-2026.jpg
END:VEVENT
BEGIN:VEVENT
DTSTART;TZID=America/New_York:20260217T150000
DTEND;TZID=America/New_York:20260217T160000
DTSTAMP:20260421T073146
CREATED:20260112T150830Z
LAST-MODIFIED:20260112T150832Z
UID:10003356-1771340400-1771344000@www.nclutheran.org
SUMMARY:Chrism Mass
DESCRIPTION:
URL:https://www.nclutheran.org/event/chrism-mass/2026-02-17/2/
LOCATION:Various Locations
CATEGORIES:Synod Sponsored
ATTACH;FMTTYPE=image/jpeg:https://www.nclutheran.org/wp-content/uploads/2026/01/Chrism-Mass-event-2026.jpg
END:VEVENT
BEGIN:VEVENT
DTSTART;TZID=America/New_York:20260219T190000
DTEND;TZID=America/New_York:20260219T200000
DTSTAMP:20260421T073146
CREATED:20260122T020031Z
LAST-MODIFIED:20260122T140013Z
UID:10003366-1771527600-1771531200@www.nclutheran.org
SUMMARY:African American Lutheran History: “Stories We Black Lutherans Could Tell”
DESCRIPTION:  \n 
URL:https://www.nclutheran.org/event/african-american-lutheran-history-stories-we-black-lutherans-could-tell/
LOCATION:Zoom
CATEGORIES:Continuing Education,Synod Sponsored
ATTACH;FMTTYPE=image/jpeg:https://www.nclutheran.org/wp-content/uploads/2026/01/ADLA-Stories-We-Could-Tell_event.jpg
END:VEVENT
BEGIN:VEVENT
DTSTART;TZID=America/New_York:20260221T140000
DTEND;TZID=America/New_York:20260221T140000
DTSTAMP:20260421T073146
CREATED:20250507T212320Z
LAST-MODIFIED:20260129T134001Z
UID:10003201-1771682400-1771682400@www.nclutheran.org
SUMMARY:Ordination: GeoRene Jones
DESCRIPTION:19104
URL:https://www.nclutheran.org/event/ordination-georene-jones/
LOCATION:St. Luke’s\, Charlotte\, 3200 Park Road\, Charlotte\, NC\, 28209\, United States
CATEGORIES:Synod Sponsored
ATTACH;FMTTYPE=image/png:https://www.nclutheran.org/wp-content/uploads/2023/01/Ordination-Event-1.png
END:VEVENT
BEGIN:VEVENT
DTSTART;VALUE=DATE:20260227
DTEND;VALUE=DATE:20260302
DTSTAMP:20260421T073146
CREATED:20250520T183510Z
LAST-MODIFIED:20251031T202513Z
UID:10003211-1772150400-1772409599@www.nclutheran.org
SUMMARY:LYO Assembly
DESCRIPTION:
URL:https://www.nclutheran.org/event/lyo-assembly/
CATEGORIES:Children Youth and Family,Synod Sponsored
ATTACH;FMTTYPE=image/jpeg:https://www.nclutheran.org/wp-content/uploads/2025/10/LYO-2026-Event.jpg
END:VEVENT
END:VCALENDAR