BEGIN:VCALENDAR
VERSION:2.0
PRODID:-//North Carolina Synod - ECPv6.15.20//NONSGML v1.0//EN
CALSCALE:GREGORIAN
METHOD:PUBLISH
X-WR-CALNAME:North Carolina Synod
X-ORIGINAL-URL:https://www.nclutheran.org
X-WR-CALDESC:Events for North Carolina Synod
REFRESH-INTERVAL;VALUE=DURATION:PT1H
X-Robots-Tag:noindex
X-PUBLISHED-TTL:PT1H
BEGIN:VTIMEZONE
TZID:America/New_York
BEGIN:DAYLIGHT
TZOFFSETFROM:-0500
TZOFFSETTO:-0400
TZNAME:EDT
DTSTART:20250309T070000
END:DAYLIGHT
BEGIN:STANDARD
TZOFFSETFROM:-0400
TZOFFSETTO:-0500
TZNAME:EST
DTSTART:20251102T060000
END:STANDARD
BEGIN:DAYLIGHT
TZOFFSETFROM:-0500
TZOFFSETTO:-0400
TZNAME:EDT
DTSTART:20260308T070000
END:DAYLIGHT
BEGIN:STANDARD
TZOFFSETFROM:-0400
TZOFFSETTO:-0500
TZNAME:EST
DTSTART:20261101T060000
END:STANDARD
BEGIN:DAYLIGHT
TZOFFSETFROM:-0500
TZOFFSETTO:-0400
TZNAME:EDT
DTSTART:20270314T070000
END:DAYLIGHT
BEGIN:STANDARD
TZOFFSETFROM:-0400
TZOFFSETTO:-0500
TZNAME:EST
DTSTART:20271107T060000
END:STANDARD
END:VTIMEZONE
BEGIN:VEVENT
DTSTART;TZID=America/New_York:20260507T100000
DTEND;TZID=America/New_York:20260507T140000
DTSTAMP:20260419T121958
CREATED:20260408T220059Z
LAST-MODIFIED:20260408T220136Z
UID:10003455-1778148000-1778162400@www.nclutheran.org
SUMMARY:Call Team Trainers Event
DESCRIPTION:
URL:https://www.nclutheran.org/event/call-team-trainers-event/
LOCATION:Synod Office\, 1988 Lutheran Synod Drive\, Salisbury\, NC\, 28144\, United States
CATEGORIES:Synod Sponsored
ATTACH;FMTTYPE=image/jpeg:https://www.nclutheran.org/wp-content/uploads/2026/04/Call-Team-Trainers_enews.jpg
ORGANIZER;CN="NC Synod":MAILTO:synod@nclutheran.org
END:VEVENT
BEGIN:VEVENT
DTSTART;VALUE=DATE:20260518
DTEND;VALUE=DATE:20260521
DTSTAMP:20260419T121958
CREATED:20250612T185348Z
LAST-MODIFIED:20260408T222523Z
UID:10003217-1779062400-1779321599@www.nclutheran.org
SUMMARY:MESS Training for Disaster Response
DESCRIPTION:
URL:https://www.nclutheran.org/event/mess-training-for-disaster-response/
LOCATION:Coastal Retreat Center\, 2101 Palm Blvd\, Isle of Palms\, SC\, 29451
CATEGORIES:Continuing Education,Synod Sponsored
ATTACH;FMTTYPE=image/jpeg:https://www.nclutheran.org/wp-content/uploads/2025/06/MESS-Training-LDRC_event.jpg
END:VEVENT
BEGIN:VEVENT
DTSTART;VALUE=DATE:20260528
DTEND;VALUE=DATE:20260531
DTSTAMP:20260419T121958
CREATED:20251028T205310Z
LAST-MODIFIED:20260127T201452Z
UID:10003322-1779926400-1780185599@www.nclutheran.org
SUMMARY:Synod Gathering 2026
DESCRIPTION:
URL:https://www.nclutheran.org/event/synod-gathering-2026/
LOCATION:Lenoir-Rhyne University\, 625 7th Ave NE\, Hickory\, NC\, 28601\, United States
CATEGORIES:Large Event,Synod Sponsored
ATTACH;FMTTYPE=image/jpeg:https://www.nclutheran.org/wp-content/uploads/2025/10/Synod-Gathering-2026-Save-the-Date-Event.jpg
END:VEVENT
END:VCALENDAR