BEGIN:VCALENDAR
VERSION:2.0
PRODID:-//North Carolina Synod - ECPv6.15.20//NONSGML v1.0//EN
CALSCALE:GREGORIAN
METHOD:PUBLISH
X-WR-CALNAME:North Carolina Synod
X-ORIGINAL-URL:https://www.nclutheran.org
X-WR-CALDESC:Events for North Carolina Synod
REFRESH-INTERVAL;VALUE=DURATION:PT1H
X-Robots-Tag:noindex
X-PUBLISHED-TTL:PT1H
BEGIN:VTIMEZONE
TZID:America/New_York
BEGIN:DAYLIGHT
TZOFFSETFROM:-0500
TZOFFSETTO:-0400
TZNAME:EDT
DTSTART:20240310T070000
END:DAYLIGHT
BEGIN:STANDARD
TZOFFSETFROM:-0400
TZOFFSETTO:-0500
TZNAME:EST
DTSTART:20241103T060000
END:STANDARD
BEGIN:DAYLIGHT
TZOFFSETFROM:-0500
TZOFFSETTO:-0400
TZNAME:EDT
DTSTART:20250309T070000
END:DAYLIGHT
BEGIN:STANDARD
TZOFFSETFROM:-0400
TZOFFSETTO:-0500
TZNAME:EST
DTSTART:20251102T060000
END:STANDARD
BEGIN:DAYLIGHT
TZOFFSETFROM:-0500
TZOFFSETTO:-0400
TZNAME:EDT
DTSTART:20260308T070000
END:DAYLIGHT
BEGIN:STANDARD
TZOFFSETFROM:-0400
TZOFFSETTO:-0500
TZNAME:EST
DTSTART:20261101T060000
END:STANDARD
BEGIN:DAYLIGHT
TZOFFSETFROM:-0500
TZOFFSETTO:-0400
TZNAME:EDT
DTSTART:20270314T070000
END:DAYLIGHT
BEGIN:STANDARD
TZOFFSETFROM:-0400
TZOFFSETTO:-0500
TZNAME:EST
DTSTART:20271107T060000
END:STANDARD
END:VTIMEZONE
BEGIN:VEVENT
DTSTART;VALUE=DATE:20260119
DTEND;VALUE=DATE:20260120
DTSTAMP:20260425T093800
CREATED:20251212T173610Z
LAST-MODIFIED:20260106T194151Z
UID:10003346-1768780800-1768867199@www.nclutheran.org
SUMMARY:Office Closed: Martin Luther King Day
DESCRIPTION:
URL:https://www.nclutheran.org/event/office-closed-martin-luther-king-day/
CATEGORIES:Holiday,Synod Sponsored
ATTACH;FMTTYPE=image/png:https://www.nclutheran.org/wp-content/uploads/2023/01/Resize-for-web-event-6-copy-2.png
ORGANIZER;CN="NC Synod":MAILTO:synod@nclutheran.org
END:VEVENT
BEGIN:VEVENT
DTSTART;TZID=America/New_York:20260103T110000
DTEND;TZID=America/New_York:20260103T140000
DTSTAMP:20260425T093800
CREATED:20251218T173048Z
LAST-MODIFIED:20251219T171332Z
UID:10003352-1767438000-1767448800@www.nclutheran.org
SUMMARY:Celebrate Kwanzaa with ADLA!
DESCRIPTION:  \n 
URL:https://www.nclutheran.org/event/celebrate-kwanzaa-with-adla/
LOCATION:First Lutheran Church\, 3600 W Friendly Ave\, Greensboro\, NC\, 27410
CATEGORIES:Continuing Education
ATTACH;FMTTYPE=image/jpeg:https://www.nclutheran.org/wp-content/uploads/2025/12/Kwanzaa-Celebration-2.jpg
END:VEVENT
BEGIN:VEVENT
DTSTART;TZID=America/New_York:20251208T190000
DTEND;TZID=America/New_York:20251208T200000
DTSTAMP:20260425T093800
CREATED:20251204T032528Z
LAST-MODIFIED:20251204T032529Z
UID:10003330-1765220400-1765224000@www.nclutheran.org
SUMMARY:Christmas Eve as a Missional Moment
DESCRIPTION:  \n 
URL:https://www.nclutheran.org/event/christmas-eve-as-a-missional-moment/
LOCATION:Zoom
CATEGORIES:Continuing Education
ATTACH;FMTTYPE=image/jpeg:https://www.nclutheran.org/wp-content/uploads/2025/12/Christmas-Eve-worship_enews.jpg
END:VEVENT
BEGIN:VEVENT
DTSTART;TZID=America/New_York:20251206T080000
DTEND;TZID=America/New_York:20251206T170000
DTSTAMP:20260425T093801
CREATED:20251206T230354Z
LAST-MODIFIED:20251206T230806Z
UID:10003339-1765008000-1765040400@www.nclutheran.org
SUMMARY:Lessons & Carols Simulcast from Bethlehem
DESCRIPTION:  \n 
URL:https://www.nclutheran.org/event/lessons-carols-simulcast-from-bethlehem-2/
CATEGORIES:Worship
ATTACH;FMTTYPE=image/jpeg:https://www.nclutheran.org/wp-content/uploads/2025/12/Bethlehem-Lessons-Carols_enews-1.jpg
END:VEVENT
BEGIN:VEVENT
DTSTART;TZID=America/New_York:20251115T140000
DTEND;TZID=America/New_York:20251115T140000
DTSTAMP:20260425T093801
CREATED:20250725T130629Z
LAST-MODIFIED:20250924T155926Z
UID:10003235-1763215200-1763215200@www.nclutheran.org
SUMMARY:Bishop's Installation Worship
DESCRIPTION:
URL:https://www.nclutheran.org/event/bishops-installation-worship/
LOCATION:Christ Lutheran Church – Providence\, 4519 Providence Road\, Charlotte\, NC\, 28226\, United States
CATEGORIES:Large Event,Synod Sponsored
ATTACH;FMTTYPE=image/jpeg:https://www.nclutheran.org/wp-content/uploads/2025/07/Bishop-Emily-Installation-Event.jpg
ORGANIZER;CN="NC Synod":MAILTO:synod@nclutheran.org
END:VEVENT
BEGIN:VEVENT
DTSTART;TZID=America/New_York:20251113T180000
DTEND;TZID=America/New_York:20251113T200000
DTSTAMP:20260425T093801
CREATED:20251103T144708Z
LAST-MODIFIED:20251104T144510Z
UID:10003326-1763056800-1763064000@www.nclutheran.org
SUMMARY:Sense the Spirit: Growing in God's Call
DESCRIPTION:
URL:https://www.nclutheran.org/event/sense-the-spirit-growing-in-gods-call/
LOCATION:Augsburg Lutheran Church\, 845 W 5th St\, Winston-Salem\, NC\, 27101\, United States
CATEGORIES:Synod Sponsored
ATTACH;FMTTYPE=image/png:https://www.nclutheran.org/wp-content/uploads/2025/11/Heading-1000-x-563-px.png
END:VEVENT
BEGIN:VEVENT
DTSTART;TZID=America/New_York:20251101T130000
DTEND;TZID=America/New_York:20251101T170000
DTSTAMP:20260425T093801
CREATED:20250612T193106Z
LAST-MODIFIED:20250612T195126Z
UID:10003219-1762002000-1762016400@www.nclutheran.org
SUMMARY:NCCC: Celebrate 90 Years of Faith\, Justice\, and Action!
DESCRIPTION:
URL:https://www.nclutheran.org/event/nccc-celebrate-90-years-of-faith-justice-and-action/
LOCATION:Edenton Street United Methodist Church\, 228 W Edenton St\, Raleigh\, NC\, 27603
CATEGORIES:Synod Sponsored,Worship
ATTACH;FMTTYPE=image/jpeg:https://www.nclutheran.org/wp-content/uploads/2025/06/NCCC-90th-Anniversary_event.jpg
END:VEVENT
BEGIN:VEVENT
DTSTART;TZID=America/New_York:20251015T130000
DTEND;TZID=America/New_York:20251015T160000
DTSTAMP:20260425T093801
CREATED:20250708T011305Z
LAST-MODIFIED:20251118T041858Z
UID:10003221-1760533200-1760544000@www.nclutheran.org
SUMMARY:Basic Boundary Training
DESCRIPTION:  \n 
URL:https://www.nclutheran.org/event/basic-boundary-training/
LOCATION:Lutheridge\, 2511 Hendersonville Rd\, Arden\, 28704\, United States
CATEGORIES:Boundary Training,Synod Sponsored
ATTACH;FMTTYPE=image/jpeg:https://www.nclutheran.org/wp-content/uploads/2025/07/Boundary-Training_event.jpg
ORGANIZER;CN="NC Synod":MAILTO:synod@nclutheran.org
END:VEVENT
BEGIN:VEVENT
DTSTART;TZID=America/New_York:20251015T104500
DTEND;TZID=America/New_York:20251015T123000
DTSTAMP:20260425T093801
CREATED:20250828T022151Z
LAST-MODIFIED:20250828T022152Z
UID:10003240-1760525100-1760531400@www.nclutheran.org
SUMMARY:Celebration & Sending of Pastor CeCee Mills
DESCRIPTION:  \n 
URL:https://www.nclutheran.org/event/celebration-sending-of-pastor-cecee-mills/
LOCATION:Lutheridge\, 2511 Hendersonville Rd\, Arden\, 28704\, United States
CATEGORIES:Synod Sponsored,Worship
ATTACH;FMTTYPE=image/jpeg:https://www.nclutheran.org/wp-content/uploads/2025/08/CeCee-Fall-Convo-Celebration_event.jpg
ORGANIZER;CN="NC Synod":MAILTO:synod@nclutheran.org
END:VEVENT
BEGIN:VEVENT
DTSTART;VALUE=DATE:20251013
DTEND;VALUE=DATE:20251016
DTSTAMP:20260425T093801
CREATED:20250708T191033Z
LAST-MODIFIED:20250709T185006Z
UID:10003230-1760313600-1760572799@www.nclutheran.org
SUMMARY:2025 Fall Convocation
DESCRIPTION:
URL:https://www.nclutheran.org/event/2025-fall-convocation/
LOCATION:Lutheridge\, 2511 Hendersonville Rd\, Arden\, 28704\, United States
CATEGORIES:Large Event,Synod Sponsored
ATTACH;FMTTYPE=image/jpeg:https://www.nclutheran.org/wp-content/uploads/2025/07/fall-convo-2025-event-3.jpg
END:VEVENT
BEGIN:VEVENT
DTSTART;VALUE=DATE:20251013
DTEND;VALUE=DATE:20251016
DTSTAMP:20260425T093801
CREATED:20230105T142544Z
LAST-MODIFIED:20251002T143739Z
UID:10001657-1760313600-1760572799@www.nclutheran.org
SUMMARY:Office Closed: Fall Convo
DESCRIPTION:
URL:https://www.nclutheran.org/event/office-closed/
LOCATION:Synod Office\, 1988 Lutheran Synod Drive\, Salisbury\, NC\, 28144\, United States
CATEGORIES:Holiday,Synod Sponsored
ATTACH;FMTTYPE=image/png:https://www.nclutheran.org/wp-content/uploads/2023/01/Resize-for-web-event-6-copy-2.png
ORGANIZER;CN="NC Synod":MAILTO:synod@nclutheran.org
END:VEVENT
BEGIN:VEVENT
DTSTART;TZID=America/New_York:20251004T100000
DTEND;TZID=America/New_York:20251004T150000
DTSTAMP:20260425T093801
CREATED:20230802T151709Z
LAST-MODIFIED:20250809T215105Z
UID:10001832-1759572000-1759590000@www.nclutheran.org
SUMMARY:Youthquake
DESCRIPTION:  \n 
URL:https://www.nclutheran.org/event/youthquake/
LOCATION:St. John’s\, Salisbury\, 200 W. Innes St.\, Salisbury\, NC\, 28144
CATEGORIES:Children Youth and Family,Synod Sponsored
ATTACH;FMTTYPE=image/jpeg:https://www.nclutheran.org/wp-content/uploads/2023/08/YouthQuake-Save-the-Date-1.jpg
END:VEVENT
BEGIN:VEVENT
DTSTART;TZID=America/New_York:20250928T160000
DTEND;TZID=America/New_York:20250928T200000
DTSTAMP:20260425T093801
CREATED:20250828T015751Z
LAST-MODIFIED:20250828T022811Z
UID:10003239-1759075200-1759089600@www.nclutheran.org
SUMMARY:A Service of Blessing & Joy!
DESCRIPTION:
URL:https://www.nclutheran.org/event/a-service-of-blessing-joy/
LOCATION:Prince of Peace\, Greensboro
CATEGORIES:Synod Sponsored,Worship
ATTACH;FMTTYPE=image/jpeg:https://www.nclutheran.org/wp-content/uploads/2025/08/CeCee-Service-of-Blessing-Joy_enews.jpg
END:VEVENT
BEGIN:VEVENT
DTSTART;TZID=America/New_York:20250927T150000
DTEND;TZID=America/New_York:20250927T163000
DTSTAMP:20260425T093801
CREATED:20250712T223033Z
LAST-MODIFIED:20250922T140404Z
UID:10003232-1758985200-1758990600@www.nclutheran.org
SUMMARY:Helene Anniversary Service
DESCRIPTION:
URL:https://www.nclutheran.org/event/helene-anniversary-service/
LOCATION:Nativity\, Arden\, 2425 Hendersonville Rd\, Arden\, NC\, 28704
CATEGORIES:Synod Sponsored
ATTACH;FMTTYPE=image/jpeg:https://www.nclutheran.org/wp-content/uploads/2025/07/Helene-Anniversary-Service_event.jpg
END:VEVENT
BEGIN:VEVENT
DTSTART;VALUE=DATE:20250922
DTEND;VALUE=DATE:20250925
DTSTAMP:20260425T093801
CREATED:20250712T220926Z
LAST-MODIFIED:20250712T221604Z
UID:10003231-1758499200-1758758399@www.nclutheran.org
SUMMARY:CYF Leaders Retreat: Service Learning
DESCRIPTION:
URL:https://www.nclutheran.org/event/cyf-leaders-retreat-service-learning/
LOCATION:Camp Agapé
CATEGORIES:Children Youth and Family,Synod Sponsored
ATTACH;FMTTYPE=image/jpeg:https://www.nclutheran.org/wp-content/uploads/2025/07/CYF-Leaders-Retreat_event.jpg
ORGANIZER;CN="NC Synod":MAILTO:synod@nclutheran.org
END:VEVENT
BEGIN:VEVENT
DTSTART;TZID=America/New_York:20250820T130000
DTEND;TZID=America/New_York:20250820T143000
DTSTAMP:20260425T093801
CREATED:20250717T184739Z
LAST-MODIFIED:20250717T184740Z
UID:10003234-1755694800-1755700200@www.nclutheran.org
SUMMARY:Teacher Training Workshops
DESCRIPTION:
URL:https://www.nclutheran.org/event/teacher-training-workshops/2025-08-20/
LOCATION:Zoom
CATEGORIES:Children Youth and Family
ATTACH;FMTTYPE=image/jpeg:https://www.nclutheran.org/wp-content/uploads/2025/07/PRC-Teacher-Training_event.jpg
ORGANIZER;CN="PRC%E2%80%94Practical Resources for Churches":MAILTO:mailto:karen@prcli.org
END:VEVENT
BEGIN:VEVENT
DTSTART;VALUE=DATE:20250802
DTEND;VALUE=DATE:20250803
DTSTAMP:20260425T093801
CREATED:20250411T174750Z
LAST-MODIFIED:20250718T134410Z
UID:10002823-1754092800-1754179199@www.nclutheran.org
SUMMARY:2025 ELCA Churchwide Assembly
DESCRIPTION:
URL:https://www.nclutheran.org/event/2025-elca-churchwide-assembly/2025-08-02/
LOCATION:Phoenix Convention Center\, 100 N 3rd St.\, Phoenix\, AZ\, 85004
CATEGORIES:ELCA
ATTACH;FMTTYPE=image/jpeg:https://www.nclutheran.org/wp-content/uploads/2025/04/ELCA-Churchwide-Assembly-2025_event.jpg
END:VEVENT
BEGIN:VEVENT
DTSTART;VALUE=DATE:20250801
DTEND;VALUE=DATE:20250802
DTSTAMP:20260425T093801
CREATED:20250411T174750Z
LAST-MODIFIED:20250718T134410Z
UID:10002822-1754006400-1754092799@www.nclutheran.org
SUMMARY:2025 ELCA Churchwide Assembly
DESCRIPTION:
URL:https://www.nclutheran.org/event/2025-elca-churchwide-assembly/2025-08-01/
LOCATION:Phoenix Convention Center\, 100 N 3rd St.\, Phoenix\, AZ\, 85004
CATEGORIES:ELCA
ATTACH;FMTTYPE=image/jpeg:https://www.nclutheran.org/wp-content/uploads/2025/04/ELCA-Churchwide-Assembly-2025_event.jpg
END:VEVENT
BEGIN:VEVENT
DTSTART;VALUE=DATE:20250731
DTEND;VALUE=DATE:20250801
DTSTAMP:20260425T093801
CREATED:20250411T174750Z
LAST-MODIFIED:20250718T134410Z
UID:10002821-1753920000-1754006399@www.nclutheran.org
SUMMARY:2025 ELCA Churchwide Assembly
DESCRIPTION:
URL:https://www.nclutheran.org/event/2025-elca-churchwide-assembly/2025-07-31/
LOCATION:Phoenix Convention Center\, 100 N 3rd St.\, Phoenix\, AZ\, 85004
CATEGORIES:ELCA
ATTACH;FMTTYPE=image/jpeg:https://www.nclutheran.org/wp-content/uploads/2025/04/ELCA-Churchwide-Assembly-2025_event.jpg
END:VEVENT
BEGIN:VEVENT
DTSTART;TZID=America/New_York:20250730T190000
DTEND;TZID=America/New_York:20250730T203000
DTSTAMP:20260425T093801
CREATED:20250717T184739Z
LAST-MODIFIED:20250717T184740Z
UID:10003233-1753902000-1753907400@www.nclutheran.org
SUMMARY:Teacher Training Workshops
DESCRIPTION:
URL:https://www.nclutheran.org/event/teacher-training-workshops/2025-07-30/
LOCATION:Zoom
CATEGORIES:Children Youth and Family
ATTACH;FMTTYPE=image/jpeg:https://www.nclutheran.org/wp-content/uploads/2025/07/PRC-Teacher-Training_event.jpg
ORGANIZER;CN="PRC%E2%80%94Practical Resources for Churches":MAILTO:mailto:karen@prcli.org
END:VEVENT
BEGIN:VEVENT
DTSTART;VALUE=DATE:20250730
DTEND;VALUE=DATE:20250731
DTSTAMP:20260425T093801
CREATED:20250411T174750Z
LAST-MODIFIED:20250718T134410Z
UID:10002820-1753833600-1753919999@www.nclutheran.org
SUMMARY:2025 ELCA Churchwide Assembly
DESCRIPTION:
URL:https://www.nclutheran.org/event/2025-elca-churchwide-assembly/2025-07-30/
LOCATION:Phoenix Convention Center\, 100 N 3rd St.\, Phoenix\, AZ\, 85004
CATEGORIES:ELCA
ATTACH;FMTTYPE=image/jpeg:https://www.nclutheran.org/wp-content/uploads/2025/04/ELCA-Churchwide-Assembly-2025_event.jpg
END:VEVENT
BEGIN:VEVENT
DTSTART;VALUE=DATE:20250729
DTEND;VALUE=DATE:20250730
DTSTAMP:20260425T093801
CREATED:20250411T174750Z
LAST-MODIFIED:20250718T134410Z
UID:10002819-1753747200-1753833599@www.nclutheran.org
SUMMARY:2025 ELCA Churchwide Assembly
DESCRIPTION:
URL:https://www.nclutheran.org/event/2025-elca-churchwide-assembly/2025-07-29/
LOCATION:Phoenix Convention Center\, 100 N 3rd St.\, Phoenix\, AZ\, 85004
CATEGORIES:ELCA
ATTACH;FMTTYPE=image/jpeg:https://www.nclutheran.org/wp-content/uploads/2025/04/ELCA-Churchwide-Assembly-2025_event.jpg
END:VEVENT
BEGIN:VEVENT
DTSTART;VALUE=DATE:20250728
DTEND;VALUE=DATE:20250729
DTSTAMP:20260425T093801
CREATED:20250411T174750Z
LAST-MODIFIED:20250718T134410Z
UID:10002818-1753660800-1753747199@www.nclutheran.org
SUMMARY:2025 ELCA Churchwide Assembly
DESCRIPTION:
URL:https://www.nclutheran.org/event/2025-elca-churchwide-assembly/2025-07-28/
LOCATION:Phoenix Convention Center\, 100 N 3rd St.\, Phoenix\, AZ\, 85004
CATEGORIES:ELCA
ATTACH;FMTTYPE=image/jpeg:https://www.nclutheran.org/wp-content/uploads/2025/04/ELCA-Churchwide-Assembly-2025_event.jpg
END:VEVENT
BEGIN:VEVENT
DTSTART;VALUE=DATE:20250706
DTEND;VALUE=DATE:20250707
DTSTAMP:20260425T093801
CREATED:20250609T235949Z
LAST-MODIFIED:20250609T235950Z
UID:10003215-1751760000-1751846399@www.nclutheran.org
SUMMARY:Heartfelt Hebrews: Summer Bible Reading Plan Begins
DESCRIPTION:  \n 
URL:https://www.nclutheran.org/event/heartfelt-hebrews-summer-bible-reading-plan-begins/
CATEGORIES:Synod Sponsored
ATTACH;FMTTYPE=image/jpeg:https://www.nclutheran.org/wp-content/uploads/2025/06/Heartfelt-Hebrews_event.jpg
ORGANIZER;CN="NC Synod":MAILTO:synod@nclutheran.org
END:VEVENT
BEGIN:VEVENT
DTSTART;TZID=America/New_York:20250529T090000
DTEND;TZID=America/New_York:20250529T120000
DTSTAMP:20260425T093801
CREATED:20250515T004520Z
LAST-MODIFIED:20250515T004826Z
UID:10003208-1748509200-1748520000@www.nclutheran.org
SUMMARY:2025 Pre-Assembly Event
DESCRIPTION:
URL:https://www.nclutheran.org/event/2025-pre-assembly-event/
LOCATION:Koury Convention Center\, Greensboro\, NC\, United States
CATEGORIES:Synod Sponsored
ATTACH;FMTTYPE=image/jpeg:https://www.nclutheran.org/wp-content/uploads/2025/05/Pre-Assembly_event.jpg
END:VEVENT
BEGIN:VEVENT
DTSTART;VALUE=DATE:20250529
DTEND;VALUE=DATE:20250601
DTSTAMP:20260425T093801
CREATED:20240124T203050Z
LAST-MODIFIED:20250530T154507Z
UID:10002473-1748476800-1748735999@www.nclutheran.org
SUMMARY:Synod Assembly 2025
DESCRIPTION:
URL:https://www.nclutheran.org/event/synod-assembly-2025/
LOCATION:Koury Convention Center\, Greensboro\, NC\, United States
CATEGORIES:Large Event,Synod Sponsored
ATTACH;FMTTYPE=image/jpeg:https://www.nclutheran.org/wp-content/uploads/2024/10/Synod-Assembly-2025-copy-2.jpg
END:VEVENT
BEGIN:VEVENT
DTSTART;TZID=America/New_York:20250520T190000
DTEND;TZID=America/New_York:20250520T200000
DTSTAMP:20260425T093801
CREATED:20250412T201740Z
LAST-MODIFIED:20250416T190159Z
UID:10003193-1747767600-1747771200@www.nclutheran.org
SUMMARY:2025 Synod Assembly Hearing: Budget
DESCRIPTION:
URL:https://www.nclutheran.org/event/2025-synod-assembly-hearing-budget/
LOCATION:Zoom
CATEGORIES:Synod Sponsored
ATTACH;FMTTYPE=image/jpeg:https://www.nclutheran.org/wp-content/uploads/2025/04/Event-1000-×-563-px-5.jpg
ORGANIZER;CN="NC Synod":MAILTO:synod@nclutheran.org
END:VEVENT
BEGIN:VEVENT
DTSTART;TZID=America/New_York:20250515T190000
DTEND;TZID=America/New_York:20250515T200000
DTSTAMP:20260425T093801
CREATED:20250412T195636Z
LAST-MODIFIED:20250416T190337Z
UID:10003192-1747335600-1747339200@www.nclutheran.org
SUMMARY:2025 Synod Assembly Hearing: Compensation Guidelines
DESCRIPTION:
URL:https://www.nclutheran.org/event/2025-synod-assembly-hearing-compensation-guidelines/
LOCATION:Zoom
CATEGORIES:Synod Sponsored
ATTACH;FMTTYPE=image/jpeg:https://www.nclutheran.org/wp-content/uploads/2025/04/Event-1000-×-563-px-4.jpg
ORGANIZER;CN="NC Synod":MAILTO:synod@nclutheran.org
END:VEVENT
BEGIN:VEVENT
DTSTART;TZID=America/New_York:20250508T190000
DTEND;TZID=America/New_York:20250508T203000
DTSTAMP:20260425T093801
CREATED:20250417T202342Z
LAST-MODIFIED:20250417T202342Z
UID:10003195-1746730800-1746736200@www.nclutheran.org
SUMMARY:Why People Give: Love Letters to Our Church
DESCRIPTION:
URL:https://www.nclutheran.org/event/why-people-give-love-letters-to-our-church/
LOCATION:Zoom
CATEGORIES:Continuing Education,ELCA
ATTACH;FMTTYPE=image/jpeg:https://www.nclutheran.org/wp-content/uploads/2025/04/Why-People-Give_event.jpg
END:VEVENT
BEGIN:VEVENT
DTSTART;TZID=America/New_York:20250410T190000
DTEND;TZID=America/New_York:20250410T200000
DTSTAMP:20260425T093801
CREATED:20250117T004144Z
LAST-MODIFIED:20250313T184546Z
UID:10002737-1744311600-1744315200@www.nclutheran.org
SUMMARY:Bishop Smith's Lenten Bible Study
DESCRIPTION:
URL:https://www.nclutheran.org/event/bishop-smiths-lenten-bible-study/2025-04-10/
LOCATION:Online
CATEGORIES:Synod Sponsored
ATTACH;FMTTYPE=image/jpeg:https://www.nclutheran.org/wp-content/uploads/2025/01/Revelation-bible-study-2025-event.jpg
ORGANIZER;CN="NC Synod":MAILTO:synod@nclutheran.org
END:VEVENT
END:VCALENDAR