BEGIN:VCALENDAR
VERSION:2.0
PRODID:-//North Carolina Synod - ECPv6.15.20//NONSGML v1.0//EN
CALSCALE:GREGORIAN
METHOD:PUBLISH
X-WR-CALNAME:North Carolina Synod
X-ORIGINAL-URL:https://www.nclutheran.org
X-WR-CALDESC:Events for North Carolina Synod
REFRESH-INTERVAL;VALUE=DURATION:PT1H
X-Robots-Tag:noindex
X-PUBLISHED-TTL:PT1H
BEGIN:VTIMEZONE
TZID:America/New_York
BEGIN:DAYLIGHT
TZOFFSETFROM:-0500
TZOFFSETTO:-0400
TZNAME:EDT
DTSTART:20240310T070000
END:DAYLIGHT
BEGIN:STANDARD
TZOFFSETFROM:-0400
TZOFFSETTO:-0500
TZNAME:EST
DTSTART:20241103T060000
END:STANDARD
BEGIN:DAYLIGHT
TZOFFSETFROM:-0500
TZOFFSETTO:-0400
TZNAME:EDT
DTSTART:20250309T070000
END:DAYLIGHT
BEGIN:STANDARD
TZOFFSETFROM:-0400
TZOFFSETTO:-0500
TZNAME:EST
DTSTART:20251102T060000
END:STANDARD
BEGIN:DAYLIGHT
TZOFFSETFROM:-0500
TZOFFSETTO:-0400
TZNAME:EDT
DTSTART:20260308T070000
END:DAYLIGHT
BEGIN:STANDARD
TZOFFSETFROM:-0400
TZOFFSETTO:-0500
TZNAME:EST
DTSTART:20261101T060000
END:STANDARD
END:VTIMEZONE
BEGIN:VEVENT
DTSTART;TZID=America/New_York:20251115T140000
DTEND;TZID=America/New_York:20251115T140000
DTSTAMP:20260419T133528
CREATED:20250725T130629Z
LAST-MODIFIED:20250924T155926Z
UID:10003235-1763215200-1763215200@www.nclutheran.org
SUMMARY:Bishop's Installation Worship
DESCRIPTION:
URL:https://www.nclutheran.org/event/bishops-installation-worship/
LOCATION:Christ Lutheran Church – Providence\, 4519 Providence Road\, Charlotte\, NC\, 28226\, United States
CATEGORIES:Large Event,Synod Sponsored
ATTACH;FMTTYPE=image/jpeg:https://www.nclutheran.org/wp-content/uploads/2025/07/Bishop-Emily-Installation-Event.jpg
ORGANIZER;CN="NC Synod":MAILTO:synod@nclutheran.org
END:VEVENT
BEGIN:VEVENT
DTSTART;TZID=America/New_York:20251113T180000
DTEND;TZID=America/New_York:20251113T200000
DTSTAMP:20260419T133528
CREATED:20251103T144708Z
LAST-MODIFIED:20251104T144510Z
UID:10003326-1763056800-1763064000@www.nclutheran.org
SUMMARY:Sense the Spirit: Growing in God's Call
DESCRIPTION:
URL:https://www.nclutheran.org/event/sense-the-spirit-growing-in-gods-call/
LOCATION:Augsburg Lutheran Church\, 845 W 5th St\, Winston-Salem\, NC\, 27101\, United States
CATEGORIES:Synod Sponsored
ATTACH;FMTTYPE=image/png:https://www.nclutheran.org/wp-content/uploads/2025/11/Heading-1000-x-563-px.png
END:VEVENT
BEGIN:VEVENT
DTSTART;TZID=America/New_York:20251112T130000
DTEND;TZID=America/New_York:20251112T140000
DTSTAMP:20260419T133528
CREATED:20250910T204747Z
LAST-MODIFIED:20250910T204747Z
UID:10003308-1762952400-1762956000@www.nclutheran.org
SUMMARY:NC Synod Coach Connection Meeting
DESCRIPTION:
URL:https://www.nclutheran.org/event/nc-synod-coach-connection-meeting/
CATEGORIES:Coaching,Synod Sponsored
ATTACH;FMTTYPE=image/jpeg:https://www.nclutheran.org/wp-content/uploads/2025/09/Coach-Connection_event.jpg
END:VEVENT
BEGIN:VEVENT
DTSTART;TZID=America/New_York:20251111T100000
DTEND;TZID=America/New_York:20251111T110000
DTSTAMP:20260419T133528
CREATED:20250910T201048Z
LAST-MODIFIED:20250910T204846Z
UID:10003305-1762855200-1762858800@www.nclutheran.org
SUMMARY:CYF Book Study: Future-Focused Church
DESCRIPTION:  \n 
URL:https://www.nclutheran.org/event/cyf-book-study-future-focused-church/2025-11-11/
LOCATION:Zoom
CATEGORIES:Children Youth and Family,Synod Sponsored
ATTACH;FMTTYPE=image/jpeg:https://www.nclutheran.org/wp-content/uploads/2025/09/Fall-Book-Study_event.jpg
ORGANIZER;CN="NC Synod":MAILTO:synod@nclutheran.org
END:VEVENT
BEGIN:VEVENT
DTSTART;TZID=America/New_York:20251106T140000
DTEND;TZID=America/New_York:20251106T150000
DTSTAMP:20260419T133528
CREATED:20251030T021146Z
LAST-MODIFIED:20251030T021146Z
UID:10003323-1762437600-1762441200@www.nclutheran.org
SUMMARY:Can We Talk? What the Bible Can Teach Us about Dialogue in a Divisive Time
DESCRIPTION:  \n 
URL:https://www.nclutheran.org/event/can-we-talk/
LOCATION:Zoom
CATEGORIES:Continuing Education
ATTACH;FMTTYPE=image/jpeg:https://www.nclutheran.org/wp-content/uploads/2025/10/PRC-Can-We-Talk_event.jpg
ORGANIZER;CN="PRC%E2%80%94Practical Resources for Churches":MAILTO:mailto:karen@prcli.org
END:VEVENT
BEGIN:VEVENT
DTSTART;TZID=America/New_York:20251104T100000
DTEND;TZID=America/New_York:20251104T110000
DTSTAMP:20260419T133528
CREATED:20250910T201048Z
LAST-MODIFIED:20250910T204846Z
UID:10003304-1762250400-1762254000@www.nclutheran.org
SUMMARY:CYF Book Study: Future-Focused Church
DESCRIPTION:  \n 
URL:https://www.nclutheran.org/event/cyf-book-study-future-focused-church/2025-11-04/
LOCATION:Zoom
CATEGORIES:Children Youth and Family,Synod Sponsored
ATTACH;FMTTYPE=image/jpeg:https://www.nclutheran.org/wp-content/uploads/2025/09/Fall-Book-Study_event.jpg
ORGANIZER;CN="NC Synod":MAILTO:synod@nclutheran.org
END:VEVENT
BEGIN:VEVENT
DTSTART;TZID=America/New_York:20251101T130000
DTEND;TZID=America/New_York:20251101T170000
DTSTAMP:20260419T133528
CREATED:20250612T193106Z
LAST-MODIFIED:20250612T195126Z
UID:10003219-1762002000-1762016400@www.nclutheran.org
SUMMARY:NCCC: Celebrate 90 Years of Faith\, Justice\, and Action!
DESCRIPTION:
URL:https://www.nclutheran.org/event/nccc-celebrate-90-years-of-faith-justice-and-action/
LOCATION:Edenton Street United Methodist Church\, 228 W Edenton St\, Raleigh\, NC\, 27603
CATEGORIES:Synod Sponsored,Worship
ATTACH;FMTTYPE=image/jpeg:https://www.nclutheran.org/wp-content/uploads/2025/06/NCCC-90th-Anniversary_event.jpg
END:VEVENT
BEGIN:VEVENT
DTSTART;VALUE=DATE:20251031
DTEND;VALUE=DATE:20251103
DTSTAMP:20260419T133528
CREATED:20250925T021857Z
LAST-MODIFIED:20250925T021857Z
UID:10003318-1761868800-1762127999@www.nclutheran.org
SUMMARY:PLTS Discernment Weekend
DESCRIPTION:
URL:https://www.nclutheran.org/event/plts-discernment-weekend/
LOCATION:Pacific Lutheran Theological Seminary\, 2000 Center St.\, Suite 200\, Berkeley\, CA\, 94704
ATTACH;FMTTYPE=image/jpeg:https://www.nclutheran.org/wp-content/uploads/2025/09/PLTS-Discernment_enews.jpg
END:VEVENT
BEGIN:VEVENT
DTSTART;TZID=America/New_York:20251029T130000
DTEND;TZID=America/New_York:20251029T140000
DTSTAMP:20260419T133528
CREATED:20250902T202225Z
LAST-MODIFIED:20250902T202540Z
UID:10003248-1761742800-1761746400@www.nclutheran.org
SUMMARY:Exploring the 5 C's of Whiteness
DESCRIPTION:
URL:https://www.nclutheran.org/event/exploring-the-5-cs-of-whiteness/2025-10-29/
LOCATION:Zoom
CATEGORIES:Continuing Education,ELCA,Racial Justice
ATTACH;FMTTYPE=image/jpeg:https://www.nclutheran.org/wp-content/uploads/2025/09/5-Cs-of-Whiteness_event.jpg
END:VEVENT
BEGIN:VEVENT
DTSTART;TZID=America/New_York:20251028T140000
DTEND;TZID=America/New_York:20251028T150000
DTSTAMP:20260419T133528
CREATED:20251017T015017Z
LAST-MODIFIED:20251024T141020Z
UID:10003320-1761660000-1761663600@www.nclutheran.org
SUMMARY:Practical AI for Churches
DESCRIPTION:  \n 
URL:https://www.nclutheran.org/event/practical-ai-for-churches/
LOCATION:Zoom
CATEGORIES:Continuing Education
ATTACH;FMTTYPE=image/jpeg:https://www.nclutheran.org/wp-content/uploads/2025/10/PRC-Practical-AI_event.jpg
ORGANIZER;CN="PRC%E2%80%94Practical Resources for Churches":MAILTO:mailto:karen@prcli.org
END:VEVENT
BEGIN:VEVENT
DTSTART;TZID=America/New_York:20251028T130000
DTEND;TZID=America/New_York:20251028T160000
DTSTAMP:20260419T133528
CREATED:20250925T015903Z
LAST-MODIFIED:20250925T020044Z
UID:10003316-1761656400-1761667200@www.nclutheran.org
SUMMARY:Advent Lectionary Study for Preachers
DESCRIPTION:
URL:https://www.nclutheran.org/event/advent-lectionary-study-for-preachers/
LOCATION:Zoom
CATEGORIES:Continuing Education
ATTACH;FMTTYPE=image/jpeg:https://www.nclutheran.org/wp-content/uploads/2025/09/Advent-Study_event.jpg
ORGANIZER;CN="Southeastern Synod":MAILTO:Mjannett@elca-ses.org
END:VEVENT
BEGIN:VEVENT
DTSTART;TZID=America/New_York:20251028T100000
DTEND;TZID=America/New_York:20251028T110000
DTSTAMP:20260419T133528
CREATED:20250910T201048Z
LAST-MODIFIED:20250910T204846Z
UID:10003303-1761645600-1761649200@www.nclutheran.org
SUMMARY:CYF Book Study: Future-Focused Church
DESCRIPTION:  \n 
URL:https://www.nclutheran.org/event/cyf-book-study-future-focused-church/2025-10-28/
LOCATION:Zoom
CATEGORIES:Children Youth and Family,Synod Sponsored
ATTACH;FMTTYPE=image/jpeg:https://www.nclutheran.org/wp-content/uploads/2025/09/Fall-Book-Study_event.jpg
ORGANIZER;CN="NC Synod":MAILTO:synod@nclutheran.org
END:VEVENT
BEGIN:VEVENT
DTSTART;TZID=America/New_York:20251023T140000
DTEND;TZID=America/New_York:20251023T150000
DTSTAMP:20260419T133528
CREATED:20251008T020753Z
LAST-MODIFIED:20251008T020904Z
UID:10003319-1761228000-1761231600@www.nclutheran.org
SUMMARY:Resisting Erasure and Isolation as Pathway to Belonging
DESCRIPTION:
URL:https://www.nclutheran.org/event/resisting-erasure-and-isolation-as-pathway-to-belonging/
LOCATION:Zoom
CATEGORIES:Continuing Education
ATTACH;FMTTYPE=image/jpeg:https://www.nclutheran.org/wp-content/uploads/2025/10/PRC-Pathway-to-Belonging_enews.jpg
ORGANIZER;CN="PRC%E2%80%94Practical Resources for Churches":MAILTO:mailto:karen@prcli.org
END:VEVENT
BEGIN:VEVENT
DTSTART;TZID=America/New_York:20251022T130000
DTEND;TZID=America/New_York:20251022T140000
DTSTAMP:20260419T133528
CREATED:20250902T202225Z
LAST-MODIFIED:20250902T202540Z
UID:10003247-1761138000-1761141600@www.nclutheran.org
SUMMARY:Exploring the 5 C's of Whiteness
DESCRIPTION:
URL:https://www.nclutheran.org/event/exploring-the-5-cs-of-whiteness/2025-10-22/
LOCATION:Zoom
CATEGORIES:Continuing Education,ELCA,Racial Justice
ATTACH;FMTTYPE=image/jpeg:https://www.nclutheran.org/wp-content/uploads/2025/09/5-Cs-of-Whiteness_event.jpg
END:VEVENT
BEGIN:VEVENT
DTSTART;TZID=America/New_York:20251021T100000
DTEND;TZID=America/New_York:20251021T110000
DTSTAMP:20260419T133528
CREATED:20250910T201048Z
LAST-MODIFIED:20250910T204846Z
UID:10003302-1761040800-1761044400@www.nclutheran.org
SUMMARY:CYF Book Study: Future-Focused Church
DESCRIPTION:  \n 
URL:https://www.nclutheran.org/event/cyf-book-study-future-focused-church/2025-10-21/
LOCATION:Zoom
CATEGORIES:Children Youth and Family,Synod Sponsored
ATTACH;FMTTYPE=image/jpeg:https://www.nclutheran.org/wp-content/uploads/2025/09/Fall-Book-Study_event.jpg
ORGANIZER;CN="NC Synod":MAILTO:synod@nclutheran.org
END:VEVENT
BEGIN:VEVENT
DTSTART;VALUE=DATE:20251017
DTEND;VALUE=DATE:20251020
DTSTAMP:20260419T133528
CREATED:20250822T231733Z
LAST-MODIFIED:20250825T130302Z
UID:10003236-1760659200-1760918399@www.nclutheran.org
SUMMARY:Lead Boldly
DESCRIPTION:
URL:https://www.nclutheran.org/event/lead-boldly/
LOCATION:Camp Agapé
CATEGORIES:Children Youth and Family,Synod Sponsored
ATTACH;FMTTYPE=image/jpeg:https://www.nclutheran.org/wp-content/uploads/2025/08/Lead-Boldly_event.jpg
ORGANIZER;CN="NC Synod":MAILTO:synod@nclutheran.org
END:VEVENT
BEGIN:VEVENT
DTSTART;TZID=America/New_York:20251016T153000
DTEND;TZID=America/New_York:20251016T170000
DTSTAMP:20260419T133528
CREATED:20250919T180223Z
LAST-MODIFIED:20250919T180223Z
UID:10003311-1760628600-1760634000@www.nclutheran.org
SUMMARY:The Inauguration of Dr. Summer J. McGee
DESCRIPTION:
URL:https://www.nclutheran.org/event/the-inauguration-of-dr-summer-j-mcgee/
LOCATION:Lenoir-Rhyne University\, 625 7th Ave NE\, Hickory\, NC\, 28601\, United States
ATTACH;FMTTYPE=image/jpeg:https://www.nclutheran.org/wp-content/uploads/2025/09/Inauguration-Dr-McGee_event.jpg
END:VEVENT
BEGIN:VEVENT
DTSTART;TZID=America/New_York:20251015T130000
DTEND;TZID=America/New_York:20251015T160000
DTSTAMP:20260419T133528
CREATED:20250708T011305Z
LAST-MODIFIED:20251118T041858Z
UID:10003221-1760533200-1760544000@www.nclutheran.org
SUMMARY:Basic Boundary Training
DESCRIPTION:  \n 
URL:https://www.nclutheran.org/event/basic-boundary-training/
LOCATION:Lutheridge\, 2511 Hendersonville Rd\, Arden\, 28704\, United States
CATEGORIES:Boundary Training,Synod Sponsored
ATTACH;FMTTYPE=image/jpeg:https://www.nclutheran.org/wp-content/uploads/2025/07/Boundary-Training_event.jpg
ORGANIZER;CN="NC Synod":MAILTO:synod@nclutheran.org
END:VEVENT
BEGIN:VEVENT
DTSTART;TZID=America/New_York:20251015T130000
DTEND;TZID=America/New_York:20251015T140000
DTSTAMP:20260419T133528
CREATED:20250902T202225Z
LAST-MODIFIED:20250902T202540Z
UID:10003246-1760533200-1760536800@www.nclutheran.org
SUMMARY:Exploring the 5 C's of Whiteness
DESCRIPTION:
URL:https://www.nclutheran.org/event/exploring-the-5-cs-of-whiteness/2025-10-15/
LOCATION:Zoom
CATEGORIES:Continuing Education,ELCA,Racial Justice
ATTACH;FMTTYPE=image/jpeg:https://www.nclutheran.org/wp-content/uploads/2025/09/5-Cs-of-Whiteness_event.jpg
END:VEVENT
BEGIN:VEVENT
DTSTART;TZID=America/New_York:20251015T104500
DTEND;TZID=America/New_York:20251015T123000
DTSTAMP:20260419T133528
CREATED:20250828T022151Z
LAST-MODIFIED:20250828T022152Z
UID:10003240-1760525100-1760531400@www.nclutheran.org
SUMMARY:Celebration & Sending of Pastor CeCee Mills
DESCRIPTION:  \n 
URL:https://www.nclutheran.org/event/celebration-sending-of-pastor-cecee-mills/
LOCATION:Lutheridge\, 2511 Hendersonville Rd\, Arden\, 28704\, United States
CATEGORIES:Synod Sponsored,Worship
ATTACH;FMTTYPE=image/jpeg:https://www.nclutheran.org/wp-content/uploads/2025/08/CeCee-Fall-Convo-Celebration_event.jpg
ORGANIZER;CN="NC Synod":MAILTO:synod@nclutheran.org
END:VEVENT
BEGIN:VEVENT
DTSTART;VALUE=DATE:20251013
DTEND;VALUE=DATE:20251016
DTSTAMP:20260419T133528
CREATED:20250708T191033Z
LAST-MODIFIED:20250709T185006Z
UID:10003230-1760313600-1760572799@www.nclutheran.org
SUMMARY:2025 Fall Convocation
DESCRIPTION:
URL:https://www.nclutheran.org/event/2025-fall-convocation/
LOCATION:Lutheridge\, 2511 Hendersonville Rd\, Arden\, 28704\, United States
CATEGORIES:Large Event,Synod Sponsored
ATTACH;FMTTYPE=image/jpeg:https://www.nclutheran.org/wp-content/uploads/2025/07/fall-convo-2025-event-3.jpg
END:VEVENT
BEGIN:VEVENT
DTSTART;VALUE=DATE:20251013
DTEND;VALUE=DATE:20251016
DTSTAMP:20260419T133528
CREATED:20230105T142544Z
LAST-MODIFIED:20251002T143739Z
UID:10001657-1760313600-1760572799@www.nclutheran.org
SUMMARY:Office Closed: Fall Convo
DESCRIPTION:
URL:https://www.nclutheran.org/event/office-closed/
LOCATION:Synod Office\, 1988 Lutheran Synod Drive\, Salisbury\, NC\, 28144\, United States
CATEGORIES:Holiday,Synod Sponsored
ATTACH;FMTTYPE=image/png:https://www.nclutheran.org/wp-content/uploads/2023/01/Resize-for-web-event-6-copy-2.png
ORGANIZER;CN="NC Synod":MAILTO:synod@nclutheran.org
END:VEVENT
BEGIN:VEVENT
DTSTART;TZID=America/New_York:20251008T130000
DTEND;TZID=America/New_York:20251008T140000
DTSTAMP:20260419T133528
CREATED:20250902T202225Z
LAST-MODIFIED:20250902T202540Z
UID:10003245-1759928400-1759932000@www.nclutheran.org
SUMMARY:Exploring the 5 C's of Whiteness
DESCRIPTION:
URL:https://www.nclutheran.org/event/exploring-the-5-cs-of-whiteness/2025-10-08/
LOCATION:Zoom
CATEGORIES:Continuing Education,ELCA,Racial Justice
ATTACH;FMTTYPE=image/jpeg:https://www.nclutheran.org/wp-content/uploads/2025/09/5-Cs-of-Whiteness_event.jpg
END:VEVENT
BEGIN:VEVENT
DTSTART;TZID=America/New_York:20251007T130000
DTEND;TZID=America/New_York:20251007T143000
DTSTAMP:20260419T133528
CREATED:20250925T014924Z
LAST-MODIFIED:20250925T022236Z
UID:10003315-1759842000-1759847400@www.nclutheran.org
SUMMARY:Interim Ministry: Enter with Curiosity
DESCRIPTION:  \n 
URL:https://www.nclutheran.org/event/interim-ministry-enter-with-curiosity/
LOCATION:Zoom
CATEGORIES:Continuing Education
ATTACH;FMTTYPE=image/jpeg:https://www.nclutheran.org/wp-content/uploads/2025/09/IMN-Webinar_event.jpg
END:VEVENT
BEGIN:VEVENT
DTSTART;TZID=America/New_York:20251007T100000
DTEND;TZID=America/New_York:20251007T110000
DTSTAMP:20260419T133528
CREATED:20250910T201048Z
LAST-MODIFIED:20250910T204846Z
UID:10003301-1759831200-1759834800@www.nclutheran.org
SUMMARY:CYF Book Study: Future-Focused Church
DESCRIPTION:  \n 
URL:https://www.nclutheran.org/event/cyf-book-study-future-focused-church/2025-10-07/
LOCATION:Zoom
CATEGORIES:Children Youth and Family,Synod Sponsored
ATTACH;FMTTYPE=image/jpeg:https://www.nclutheran.org/wp-content/uploads/2025/09/Fall-Book-Study_event.jpg
ORGANIZER;CN="NC Synod":MAILTO:synod@nclutheran.org
END:VEVENT
BEGIN:VEVENT
DTSTART;TZID=America/New_York:20251004T150000
DTEND;TZID=America/New_York:20251004T180000
DTSTAMP:20260419T133528
CREATED:20250919T182202Z
LAST-MODIFIED:20250919T182202Z
UID:10003313-1759590000-1759600800@www.nclutheran.org
SUMMARY:The Installation of the Rev. Yehiel Curry as Presiding Bishop
DESCRIPTION:
URL:https://www.nclutheran.org/event/the-installation-of-yehiel-curry-as-presiding-bishop/
LOCATION:Central Lutheran Church\, 333 S 12th St\, Minneapolis\, MN\, Minneapolis\, MN\, 55404
CATEGORIES:ELCA,Worship
ATTACH;FMTTYPE=image/jpeg:https://www.nclutheran.org/wp-content/uploads/2025/09/Yehiel-Curry_enews.jpg
END:VEVENT
BEGIN:VEVENT
DTSTART;TZID=America/New_York:20251004T100000
DTEND;TZID=America/New_York:20251004T150000
DTSTAMP:20260419T133528
CREATED:20230802T151709Z
LAST-MODIFIED:20250809T215105Z
UID:10001832-1759572000-1759590000@www.nclutheran.org
SUMMARY:Youthquake
DESCRIPTION:  \n 
URL:https://www.nclutheran.org/event/youthquake/
LOCATION:St. John’s\, Salisbury\, 200 W. Innes St.\, Salisbury\, NC\, 28144
CATEGORIES:Children Youth and Family,Synod Sponsored
ATTACH;FMTTYPE=image/jpeg:https://www.nclutheran.org/wp-content/uploads/2023/08/YouthQuake-Save-the-Date-1.jpg
END:VEVENT
BEGIN:VEVENT
DTSTART;TZID=America/New_York:20251002T140000
DTEND;TZID=America/New_York:20251002T150000
DTSTAMP:20260419T133528
CREATED:20250925T021036Z
LAST-MODIFIED:20250925T021036Z
UID:10003317-1759413600-1759417200@www.nclutheran.org
SUMMARY:Navigating Stewardship in an Age of Polarization
DESCRIPTION:
URL:https://www.nclutheran.org/event/navigating-stewardship-in-an-age-of-polarization/
LOCATION:Zoom
CATEGORIES:Continuing Education
ATTACH;FMTTYPE=image/jpeg:https://www.nclutheran.org/wp-content/uploads/2025/09/PRC-3.jpg
ORGANIZER;CN="PRC%E2%80%94Practical Resources for Churches":MAILTO:mailto:karen@prcli.org
END:VEVENT
BEGIN:VEVENT
DTSTART;VALUE=DATE:20251002
DTEND;VALUE=DATE:20251005
DTSTAMP:20260419T133528
CREATED:20250902T195051Z
LAST-MODIFIED:20250902T195051Z
UID:10003243-1759363200-1759622399@www.nclutheran.org
SUMMARY:Latine Ministry Learning & Practice
DESCRIPTION:
URL:https://www.nclutheran.org/event/latine-ministry-learning-practice/
LOCATION:Zoom
CATEGORIES:Continuing Education
ATTACH;FMTTYPE=image/jpeg:https://www.nclutheran.org/wp-content/uploads/2025/09/Wartburg-Latine-Workshop_event.jpg
END:VEVENT
BEGIN:VEVENT
DTSTART;TZID=America/New_York:20251001T130000
DTEND;TZID=America/New_York:20251001T140000
DTSTAMP:20260419T133528
CREATED:20250902T202225Z
LAST-MODIFIED:20250902T202540Z
UID:10003244-1759323600-1759327200@www.nclutheran.org
SUMMARY:Exploring the 5 C's of Whiteness
DESCRIPTION:
URL:https://www.nclutheran.org/event/exploring-the-5-cs-of-whiteness/2025-10-01/
LOCATION:Zoom
CATEGORIES:Continuing Education,ELCA,Racial Justice
ATTACH;FMTTYPE=image/jpeg:https://www.nclutheran.org/wp-content/uploads/2025/09/5-Cs-of-Whiteness_event.jpg
END:VEVENT
END:VCALENDAR