BEGIN:VCALENDAR
VERSION:2.0
PRODID:-//North Carolina Synod - ECPv6.15.20//NONSGML v1.0//EN
CALSCALE:GREGORIAN
METHOD:PUBLISH
X-ORIGINAL-URL:https://www.nclutheran.org
X-WR-CALDESC:Events for North Carolina Synod
REFRESH-INTERVAL;VALUE=DURATION:PT1H
X-Robots-Tag:noindex
X-PUBLISHED-TTL:PT1H
BEGIN:VTIMEZONE
TZID:America/New_York
BEGIN:DAYLIGHT
TZOFFSETFROM:-0500
TZOFFSETTO:-0400
TZNAME:EDT
DTSTART:20250309T070000
END:DAYLIGHT
BEGIN:STANDARD
TZOFFSETFROM:-0400
TZOFFSETTO:-0500
TZNAME:EST
DTSTART:20251102T060000
END:STANDARD
BEGIN:DAYLIGHT
TZOFFSETFROM:-0500
TZOFFSETTO:-0400
TZNAME:EDT
DTSTART:20260308T070000
END:DAYLIGHT
BEGIN:STANDARD
TZOFFSETFROM:-0400
TZOFFSETTO:-0500
TZNAME:EST
DTSTART:20261101T060000
END:STANDARD
BEGIN:DAYLIGHT
TZOFFSETFROM:-0500
TZOFFSETTO:-0400
TZNAME:EDT
DTSTART:20270314T070000
END:DAYLIGHT
BEGIN:STANDARD
TZOFFSETFROM:-0400
TZOFFSETTO:-0500
TZNAME:EST
DTSTART:20271107T060000
END:STANDARD
END:VTIMEZONE
BEGIN:VEVENT
DTSTART;TZID=America/New_York:20261104T140000
DTEND;TZID=America/New_York:20261104T150000
DTSTAMP:20260421T111755
CREATED:20260226T003516Z
LAST-MODIFIED:20260226T003516Z
UID:10003391-1793800800-1793804400@www.nclutheran.org
SUMMARY:ELCA Coaching: Wayfinding in the Commons
DESCRIPTION:
URL:https://www.nclutheran.org/event/elca-coaching-wayfinding-in-the-commons/2026-11-04/
LOCATION:Online
CATEGORIES:Coaching,ELCA
ATTACH;FMTTYPE=image/jpeg:https://www.nclutheran.org/wp-content/uploads/2026/02/ELCA-Coaching-Wayfinding_event.jpg
END:VEVENT
BEGIN:VEVENT
DTSTART;VALUE=DATE:20261126
DTEND;VALUE=DATE:20261128
DTSTAMP:20260421T111755
CREATED:20231219T211551Z
LAST-MODIFIED:20251212T143225Z
UID:10002386-1795651200-1795823999@www.nclutheran.org
SUMMARY:Office Closed: Thanksgiving
DESCRIPTION:
URL:https://www.nclutheran.org/event/office-closed-thanksgiving-2/
LOCATION:Synod Office\, 1988 Lutheran Synod Drive\, Salisbury\, NC\, 28144\, United States
CATEGORIES:Holiday,Synod Sponsored
ATTACH;FMTTYPE=image/png:https://www.nclutheran.org/wp-content/uploads/2023/01/Resize-for-web-event-6-copy-2.png
ORGANIZER;CN="NC Synod":MAILTO:synod@nclutheran.org
END:VEVENT
END:VCALENDAR